BEGIN:VCALENDAR
VERSION:2.0
PRODID:-//Planinarsko društvo Kuk - Novi Travnik - ECPv5.0.2.1//NONSGML v1.0//EN
CALSCALE:GREGORIAN
METHOD:PUBLISH
X-WR-CALNAME:Planinarsko društvo Kuk - Novi Travnik
X-ORIGINAL-URL:https://pdkuk.ba
X-WR-CALDESC:Events for Planinarsko društvo Kuk - Novi Travnik
BEGIN:VTIMEZONE
TZID:Europe/Zagreb
BEGIN:DAYLIGHT
TZOFFSETFROM:+0100
TZOFFSETTO:+0200
TZNAME:CEST
DTSTART:20260329T010000
END:DAYLIGHT
BEGIN:STANDARD
TZOFFSETFROM:+0200
TZOFFSETTO:+0100
TZNAME:CET
DTSTART:20261025T010000
END:STANDARD
END:VTIMEZONE
BEGIN:VEVENT
DTSTART;TZID=Europe/Zagreb:20260523T080000
DTEND;TZID=Europe/Zagreb:20260524T170000
DTSTAMP:20260422T135145
CREATED:20250108T141037Z
LAST-MODIFIED:20260313T072652Z
UID:5343-1779523200-1779642000@pdkuk.ba
SUMMARY:Susret štovatelja sv. Bernarda
DESCRIPTION:Tradicionalni susret štovatelja sv. Bernarda ove godine će se održati na Sljemenu. \nPodijelite vijest:FacebookWhatsAppIspis
URL:https://pdkuk.ba/dogadaj/susret-stovatelja-sv-bernarda/
ORGANIZER;CN="Planinarsko%20dru%C5%A1tvo%20KUK%20Novi%20Travnik":MAILTO:pd.kuk.ntravnik@gmail.com
END:VEVENT
END:VCALENDAR