BEGIN:VCALENDAR
VERSION:2.0
PRODID:-//Planinarsko društvo Kuk - Novi Travnik - ECPv5.0.2.1//NONSGML v1.0//EN
CALSCALE:GREGORIAN
METHOD:PUBLISH
X-WR-CALNAME:Planinarsko društvo Kuk - Novi Travnik
X-ORIGINAL-URL:https://pdkuk.ba
X-WR-CALDESC:Events for Planinarsko društvo Kuk - Novi Travnik
BEGIN:VTIMEZONE
TZID:Europe/Zagreb
BEGIN:DAYLIGHT
TZOFFSETFROM:+0100
TZOFFSETTO:+0200
TZNAME:CEST
DTSTART:20200329T010000
END:DAYLIGHT
BEGIN:STANDARD
TZOFFSETFROM:+0200
TZOFFSETTO:+0100
TZNAME:CET
DTSTART:20201025T010000
END:STANDARD
END:VTIMEZONE
BEGIN:VEVENT
DTSTART;TZID=Europe/Zagreb:20200208T160000
DTEND;TZID=Europe/Zagreb:20200208T233000
DTSTAMP:20260422T172828
CREATED:20200227T122621Z
LAST-MODIFIED:20200227T122621Z
UID:730-1581177600-1581204600@pdkuk.ba
SUMMARY:Redovita  skupština PS HB
DESCRIPTION:Redovita skupština PS HB u Planinarskom domu na Velikoj Ravni / 20. put / 3. put domaćini \nPodijelite vijest:FacebookWhatsAppIspis
URL:https://pdkuk.ba/dogadaj/redovita-skupstina-ps-hb/
LOCATION:Bučićka ravan\, Bučićka ravan\, Novi Travnik\, Bosnia and Herzegovina
GEO:44.1549475;17.6959544
X-APPLE-STRUCTURED-LOCATION;VALUE=URI;X-ADDRESS=Bučićka ravan Bučićka ravan Novi Travnik Bosnia and Herzegovina;X-APPLE-RADIUS=500;X-TITLE=Bučićka ravan:geo:17.6959544,44.1549475
END:VEVENT
END:VCALENDAR