BEGIN:VCALENDAR
VERSION:2.0
PRODID:-//Planinarsko društvo Kuk - Novi Travnik - ECPv5.0.2.1//NONSGML v1.0//EN
CALSCALE:GREGORIAN
METHOD:PUBLISH
X-WR-CALNAME:Planinarsko društvo Kuk - Novi Travnik
X-ORIGINAL-URL:https://pdkuk.ba
X-WR-CALDESC:Events for Planinarsko društvo Kuk - Novi Travnik
BEGIN:VTIMEZONE
TZID:Europe/Zagreb
BEGIN:DAYLIGHT
TZOFFSETFROM:+0100
TZOFFSETTO:+0200
TZNAME:CEST
DTSTART:20200329T010000
END:DAYLIGHT
BEGIN:STANDARD
TZOFFSETFROM:+0200
TZOFFSETTO:+0100
TZNAME:CET
DTSTART:20201025T010000
END:STANDARD
END:VTIMEZONE
BEGIN:VEVENT
DTSTART;TZID=Europe/Zagreb:20200524T080000
DTEND;TZID=Europe/Zagreb:20200524T170000
DTSTAMP:20260422T204459
CREATED:20200227T134056Z
LAST-MODIFIED:20200227T134056Z
UID:774-1590307200-1590339600@pdkuk.ba
SUMMARY:Posjeta planinarskim objektima - PD KAMEŠNICA Livno
DESCRIPTION:Posjeta planinarskim objektima – PD KAMEŠNICA Livno \nPodijelite vijest:FacebookWhatsAppIspis
URL:https://pdkuk.ba/dogadaj/posjeta-planinarskim-objektima-pd-kamesnica-livno/
END:VEVENT
END:VCALENDAR