BEGIN:VCALENDAR
VERSION:2.0
PRODID:-//Planinarsko društvo Kuk - Novi Travnik - ECPv5.0.2.1//NONSGML v1.0//EN
CALSCALE:GREGORIAN
METHOD:PUBLISH
X-WR-CALNAME:Planinarsko društvo Kuk - Novi Travnik
X-ORIGINAL-URL:https://pdkuk.ba
X-WR-CALDESC:Events for Planinarsko društvo Kuk - Novi Travnik
BEGIN:VTIMEZONE
TZID:Europe/Zagreb
BEGIN:DAYLIGHT
TZOFFSETFROM:+0100
TZOFFSETTO:+0200
TZNAME:CEST
DTSTART:20200329T010000
END:DAYLIGHT
BEGIN:STANDARD
TZOFFSETFROM:+0200
TZOFFSETTO:+0100
TZNAME:CET
DTSTART:20201025T010000
END:STANDARD
END:VTIMEZONE
BEGIN:VEVENT
DTSTART;TZID=Europe/Zagreb:20200419T080000
DTEND;TZID=Europe/Zagreb:20200419T170000
DTSTAMP:20260422T190109
CREATED:20200227T125146Z
LAST-MODIFIED:20200227T130906Z
UID:758-1587283200-1587315600@pdkuk.ba
SUMMARY:Posjeta PD NJIVCE
DESCRIPTION:Posjeta PD NJIVCE i obilježavanje njihovog Dana – Planinarski dom u Bijeloj\, Brčko. \nPodijelite vijest:FacebookWhatsAppIspis
URL:https://pdkuk.ba/dogadaj/posjeta-pd-njivce/
LOCATION:Bijela – Brčko\, Bijela\, Brčko\, Bosnia and Herzegovina
ATTACH;FMTTYPE=image/jpeg:https://pdkuk.ba/wp-content/uploads/2020/02/njivce.jpg
GEO:44.779981;18.555415
X-APPLE-STRUCTURED-LOCATION;VALUE=URI;X-ADDRESS=Bijela – Brčko Bijela Brčko Bosnia and Herzegovina;X-APPLE-RADIUS=500;X-TITLE=Bijela:geo:18.555415,44.779981
END:VEVENT
END:VCALENDAR