BEGIN:VCALENDAR
VERSION:2.0
PRODID:-//Planinarsko društvo Kuk - Novi Travnik - ECPv5.0.2.1//NONSGML v1.0//EN
CALSCALE:GREGORIAN
METHOD:PUBLISH
X-WR-CALNAME:Planinarsko društvo Kuk - Novi Travnik
X-ORIGINAL-URL:https://pdkuk.ba
X-WR-CALDESC:Events for Planinarsko društvo Kuk - Novi Travnik
BEGIN:VTIMEZONE
TZID:Europe/Zagreb
BEGIN:DAYLIGHT
TZOFFSETFROM:+0100
TZOFFSETTO:+0200
TZNAME:CEST
DTSTART:20200329T010000
END:DAYLIGHT
BEGIN:STANDARD
TZOFFSETFROM:+0200
TZOFFSETTO:+0100
TZNAME:CET
DTSTART:20201025T010000
END:STANDARD
END:VTIMEZONE
BEGIN:VEVENT
DTSTART;TZID=Europe/Zagreb:20200118T080000
DTEND;TZID=Europe/Zagreb:20200119T170000
DTSTAMP:20260422T200905
CREATED:20200227T122122Z
LAST-MODIFIED:20200227T122122Z
UID:721-1579334400-1579453200@pdkuk.ba
SUMMARY:Posjeta HPD Malačka
DESCRIPTION:Posjeta HPD Malačka – D. Kaštela – Kaštel Stari u povodu 23 godine društva – pohod S. Lobin – k. Crni krug – prijevoj Malačka \nPodijelite vijest:FacebookWhatsAppIspis
URL:https://pdkuk.ba/dogadaj/posjeta-hpd-malacka/
END:VEVENT
END:VCALENDAR