BEGIN:VCALENDAR
VERSION:2.0
PRODID:-//Planinarsko društvo Kuk - Novi Travnik - ECPv5.0.2.1//NONSGML v1.0//EN
CALSCALE:GREGORIAN
METHOD:PUBLISH
X-WR-CALNAME:Planinarsko društvo Kuk - Novi Travnik
X-ORIGINAL-URL:https://pdkuk.ba
X-WR-CALDESC:Events for Planinarsko društvo Kuk - Novi Travnik
BEGIN:VTIMEZONE
TZID:Europe/Zagreb
BEGIN:DAYLIGHT
TZOFFSETFROM:+0100
TZOFFSETTO:+0200
TZNAME:CEST
DTSTART:20190331T010000
END:DAYLIGHT
BEGIN:STANDARD
TZOFFSETFROM:+0200
TZOFFSETTO:+0100
TZNAME:CET
DTSTART:20191027T010000
END:STANDARD
END:VTIMEZONE
BEGIN:VEVENT
DTSTART;TZID=Europe/Zagreb:20191013T080000
DTEND;TZID=Europe/Zagreb:20191013T170000
DTSTAMP:20260422T235339
CREATED:20191013T194503Z
LAST-MODIFIED:20191101T121245Z
UID:244-1570953600-1570986000@pdkuk.ba
SUMMARY:Opća planinarska škola - terenski rad
DESCRIPTION:S današnjim danom smo završili našu Planinarsku školu. Barem mislimo tako\, a možda i nismo\, ne znamo još što kome može pasti na pamet. Počelo je nekako s proljeća\, ili je to u stvari bila zima. Paralelno su se vrtila predavanja i ture. Malo u učionici\, a malo više na planini. Imali smo vrsne predavače\, neki su usput znali doći i zaraditi gromoglasne aplauze. Osjetila se pozitivna energija zbog koje smo nastavili dalje. Početni zadaci su bili lokalne planine\, pa je jedna bila na Gradinu\, Gorčevicu\, pa na Vranici\, Kamešnici\, a onda dođe na red Cincar\, Čvrsnica\, pa Prenj. Probali smo vjetar\, kišu\, snijeg\, led\, munje i gromove. Svega se nakupilo do sad\, pa je to trajalo više od pola godine\, a planirano je sve zbiti u dva mjeseca. Neki su posustali\, ali znamo da nisu odustali. Hvala svima na lijepim trenucima i kako netko nedavno reče\, ova beskrajna priča ide dalje. \nPodijelite vijest:FacebookWhatsAppIspis
URL:https://pdkuk.ba/dogadaj/planinarska-skola/
CATEGORIES:Planinarska škola
ATTACH;FMTTYPE=image/jpeg:https://pdkuk.ba/wp-content/uploads/2019/10/73009194_2497323100335648_5382950690387656704_n.jpg
END:VEVENT
END:VCALENDAR