BEGIN:VCALENDAR
VERSION:2.0
PRODID:-//Planinarsko društvo Kuk - Novi Travnik - ECPv5.0.2.1//NONSGML v1.0//EN
CALSCALE:GREGORIAN
METHOD:PUBLISH
X-WR-CALNAME:Planinarsko društvo Kuk - Novi Travnik
X-ORIGINAL-URL:https://pdkuk.ba
X-WR-CALDESC:Events for Planinarsko društvo Kuk - Novi Travnik
BEGIN:VTIMEZONE
TZID:Europe/Zagreb
BEGIN:DAYLIGHT
TZOFFSETFROM:+0100
TZOFFSETTO:+0200
TZNAME:CEST
DTSTART:20190331T010000
END:DAYLIGHT
BEGIN:STANDARD
TZOFFSETFROM:+0200
TZOFFSETTO:+0100
TZNAME:CET
DTSTART:20191027T010000
END:STANDARD
END:VTIMEZONE
BEGIN:VEVENT
DTSTART;VALUE=DATE:20190507
DTEND;VALUE=DATE:20190508
DTSTAMP:20260425T141806
CREATED:20190507T113740Z
LAST-MODIFIED:20191101T123907Z
UID:529-1557187200-1557273599@pdkuk.ba
SUMMARY:Opća planinarska škola\, šesto predavanje
DESCRIPTION:Večerašnje predavanje započelo je izlaganjem Vlade Mičića\, a Vedran je nastavio. U stvari\, cijelo vrijeme su se ispreplitali\, nadopunjavali\, a kako i ne bi. U neka doba stigao je i Juca i sjeo u prvu klupu. Priča je nastavila dalje svojim tijekom\, onako kako to samo Vlado zna. Bilo je to živopisno\, iskustveno predavanje\, puno smijeha\, pozitivne energije. U neka doba dođe i Slađo. Evo ga\, ekipa se kompletirala\, uspomene su navirale\, osjetiš ti tu energiju. S nama su bili novotravnički alpinisti zbog kojih smo nekim čudnim stjecajem okolnosti i mi večeras ovdje. S velikim zadovoljstvom\, punom pažnjom i vremenskim terminom koji je proletio k’o dlan o’ dlan\, možemo reći da smo počašćeni njihovim dolaskom. Hvala našim gostima\, vidimo se! 🙂 \nPodijelite vijest:FacebookWhatsAppIspis
URL:https://pdkuk.ba/dogadaj/opca-planinarska-skola-sesto-predavanje/
CATEGORIES:Planinarska škola
ATTACH;FMTTYPE=image/jpeg:https://pdkuk.ba/wp-content/uploads/2019/11/59709132_2218152164919411_4254508570927693824_n.jpg
END:VEVENT
END:VCALENDAR