BEGIN:VCALENDAR
VERSION:2.0
PRODID:-//Planinarsko društvo Kuk - Novi Travnik - ECPv5.0.2.1//NONSGML v1.0//EN
CALSCALE:GREGORIAN
METHOD:PUBLISH
X-WR-CALNAME:Planinarsko društvo Kuk - Novi Travnik
X-ORIGINAL-URL:https://pdkuk.ba
X-WR-CALDESC:Events for Planinarsko društvo Kuk - Novi Travnik
BEGIN:VTIMEZONE
TZID:Europe/Zagreb
BEGIN:DAYLIGHT
TZOFFSETFROM:+0100
TZOFFSETTO:+0200
TZNAME:CEST
DTSTART:20190331T010000
END:DAYLIGHT
BEGIN:STANDARD
TZOFFSETFROM:+0200
TZOFFSETTO:+0100
TZNAME:CET
DTSTART:20191027T010000
END:STANDARD
END:VTIMEZONE
BEGIN:VEVENT
DTSTART;VALUE=DATE:20190327
DTEND;VALUE=DATE:20190328
DTSTAMP:20260426T011103
CREATED:20191026T131219Z
LAST-MODIFIED:20191101T121258Z
UID:402-1553644800-1553731199@pdkuk.ba
SUMMARY:Opća planinarska škola\, prvo predavanje
DESCRIPTION:U okviru ovogodišnje Opće planinarske škole\, koja je započela u prostorijama Srednje škole Novi Travnik\, prošli smo i prvo predavanje koje je propratilo tridesetak polaznika. Uvodnom riječju prof. Željke Zlojo Martinović smo zvanično započeli ovaj projekt\, nakon čega se obratio i predsjednik Društva s par riječi o ideji pokretanja Škole\, očekivanjima i prednostima koje boravak u prirodi i život u skladu s prirodom nosi sa sobom. U nastavku se osjetila se odlična atmosfera\, probio se led i sad nastavljamo usponitom putanjom. Predavači u sastavu Stipo Turić i Dragan Radeljić su nas kroz predviđeno vrijeme nastave proveli kroz povijest planinarstva i planinarsku organizaciju. Iako su navedene teme općenito manje atraktivne\, svojim šarmom i nastupom zadržali su našu pažnju u punom fokusu. Posebnu zahvalu dugujemo osoblju Srednje škole Novi Travnik na čelu s ravnateljicom Dražanom Hegediš\, bez čije potpore realizacija Opće planinarske škole bi bila teško ostvariva. Idemo dalje! 🙂 \nPodijelite vijest:FacebookWhatsAppIspis
URL:https://pdkuk.ba/dogadaj/opca-planinarska-skola-prvo-predavanje/
CATEGORIES:Planinarska škola
ATTACH;FMTTYPE=image/jpeg:https://pdkuk.ba/wp-content/uploads/2019/10/55471862_2156384751096153_2615448883546816512_n.jpg
END:VEVENT
END:VCALENDAR