BEGIN:VCALENDAR
VERSION:2.0
PRODID:-//Planinarsko društvo Kuk - Novi Travnik - ECPv5.0.2.1//NONSGML v1.0//EN
CALSCALE:GREGORIAN
METHOD:PUBLISH
X-WR-CALNAME:Planinarsko društvo Kuk - Novi Travnik
X-ORIGINAL-URL:https://pdkuk.ba
X-WR-CALDESC:Events for Planinarsko društvo Kuk - Novi Travnik
BEGIN:VTIMEZONE
TZID:Europe/Zagreb
BEGIN:DAYLIGHT
TZOFFSETFROM:+0100
TZOFFSETTO:+0200
TZNAME:CEST
DTSTART:20190331T010000
END:DAYLIGHT
BEGIN:STANDARD
TZOFFSETFROM:+0200
TZOFFSETTO:+0100
TZNAME:CET
DTSTART:20191027T010000
END:STANDARD
END:VTIMEZONE
BEGIN:VEVENT
DTSTART;VALUE=DATE:20190403
DTEND;VALUE=DATE:20190404
DTSTAMP:20260425T215554
CREATED:20190403T111116Z
LAST-MODIFIED:20191101T121249Z
UID:508-1554249600-1554335999@pdkuk.ba
SUMMARY:Opća planinarska škola\, drugo predavanje
DESCRIPTION:Drugo predavanje bilo je na temu priprema za odlazak u planinu\, kretanje u planini\, te prehrana i higijena u prirodi. Živopisno predavanje na prve dvije teme iznio je kolega Nenad Rajić\, koji je svojim bogatim životnim i planinarskim iskustvom uspio do kraja zadržati našu pažnju\, osvrćući se svaki put na iskustvene detalje sa svojih brojnih tura. Profesorica Kristina Bogdan\, provela nas je kroz naredne dvije teme na sebi svojstven način\, pedantno\, koncizno i profesionalno\, a obzirom da smo bili ograničeni s vremenom\, izostalo je predavanje gosp. Tereze Krajišnik na temu korištenja prirodnih resursa kod preživljavanja u prirodi i život u skladu s prirodom\, koje planiramo odraditi u narednom vremenu. Svim sudionicima zahvaljujemo na pažnji\, vidimo se! \nPodijelite vijest:FacebookWhatsAppIspis
URL:https://pdkuk.ba/dogadaj/opca-planinarska-skola-drugo-predavanje/
CATEGORIES:Planinarska škola
ATTACH;FMTTYPE=image/jpeg:https://pdkuk.ba/wp-content/uploads/2019/11/56119896_2166061093461852_7690769912838488064_n.jpg
END:VEVENT
END:VCALENDAR