BEGIN:VCALENDAR
VERSION:2.0
PRODID:-//Planinarsko društvo Kuk - Novi Travnik - ECPv5.0.2.1//NONSGML v1.0//EN
CALSCALE:GREGORIAN
METHOD:PUBLISH
X-WR-CALNAME:Planinarsko društvo Kuk - Novi Travnik
X-ORIGINAL-URL:https://pdkuk.ba
X-WR-CALDESC:Events for Planinarsko društvo Kuk - Novi Travnik
BEGIN:VTIMEZONE
TZID:Europe/Zagreb
BEGIN:DAYLIGHT
TZOFFSETFROM:+0100
TZOFFSETTO:+0200
TZNAME:CEST
DTSTART:20190331T010000
END:DAYLIGHT
BEGIN:STANDARD
TZOFFSETFROM:+0200
TZOFFSETTO:+0100
TZNAME:CET
DTSTART:20191027T010000
END:STANDARD
END:VTIMEZONE
BEGIN:VEVENT
DTSTART;VALUE=DATE:20190408
DTEND;VALUE=DATE:20190409
DTSTAMP:20260425T202307
CREATED:20190408T112232Z
LAST-MODIFIED:20191101T122441Z
UID:517-1554681600-1554767999@pdkuk.ba
SUMMARY:Opća planinarska škola\, druga tura
DESCRIPTION:Ovaj put smo malčice odlučili promijeniti plan tura i okrenuli na Vilinsku pećinu. Vremenska prognoza nije bila obećavajuća\, što se ispostavilo ispravnim. Kako je priprema pola posla\, odnosno jedan od aspekata sigurnog i ugodnog planinarenja\, i povremeno bacanje pogleda na vremensku prognozu ćemo uvesti kao uobičajenu praksu. I kad saberemo jučerašnji dan\, sve dodamo i oduzmemo\, opet rezultira “osmijehom”… 🙂 \nPodijelite vijest:FacebookWhatsAppIspis
URL:https://pdkuk.ba/dogadaj/opca-planinarska-skola-druga-tura/
CATEGORIES:Planinarska škola
ATTACH;FMTTYPE=image/jpeg:https://pdkuk.ba/wp-content/uploads/2019/11/57012617_2173238872744074_8864811330712895488_n.jpg
END:VEVENT
END:VCALENDAR