BEGIN:VCALENDAR
VERSION:2.0
PRODID:-//Planinarsko društvo Kuk - Novi Travnik - ECPv5.0.2.1//NONSGML v1.0//EN
CALSCALE:GREGORIAN
METHOD:PUBLISH
X-WR-CALNAME:Planinarsko društvo Kuk - Novi Travnik
X-ORIGINAL-URL:https://pdkuk.ba
X-WR-CALDESC:Events for Planinarsko društvo Kuk - Novi Travnik
BEGIN:VTIMEZONE
TZID:Europe/Zagreb
BEGIN:DAYLIGHT
TZOFFSETFROM:+0100
TZOFFSETTO:+0200
TZNAME:CEST
DTSTART:20190331T010000
END:DAYLIGHT
BEGIN:STANDARD
TZOFFSETFROM:+0200
TZOFFSETTO:+0100
TZNAME:CET
DTSTART:20191027T010000
END:STANDARD
END:VTIMEZONE
BEGIN:VEVENT
DTSTART;VALUE=DATE:20190604
DTEND;VALUE=DATE:20190605
DTSTAMP:20260423T032852
CREATED:20190604T114946Z
LAST-MODIFIED:20191101T125103Z
UID:548-1559606400-1559692799@pdkuk.ba
SUMMARY:Opća planinarska škola\, deseto predavanje
DESCRIPTION:Na početku naše Planinarske škole\, Nenad je pitao zašto smo ovdje\, što je to što nas motivira. Odgovor je bio osmijeh. Večeras smo se valjali od smijeha. 🙂 Večeras u stvari nismo imali predavanje\, nego teoretski dio ispita. Nije to bio ni ispit\, nego više interaktivna radionica u kojoj smo kroz opuštenu atmosferu jedni drugima obostrano evaluirali stečeno znanje. Za polaznike je ovo bila prigoda da kroz postavljeni scenarij pokažu prikupljeno znanje i prezentiraju ga pred ostalima. Za naše Društvo\, ovo je jedno novo iskustvo i slušajući odgovore polaznika\, možemo reći da smo svi skupa položili\, jer smo u ovaj projekt ušli bez ikakvog predznanja. Od sedam planiranih utoraka teoretske nastave\, razvukli smo na deset. Unijeli novinu s predavanjem Nenada Bratića o fotografiji\, nekad ranije smo imali prilike slušati prekaljene alpiniste u sastavu Vlado\, Goran i Juca\, te skupa s njima ponovno proživjeti njihova sjećanja. Velika hvala gosp. Dražani Hegediš na potpori u organizaciji Opće planinarske škole\, te ostalom osoblju koje je bilo uključeno u realizaciju\, a posebno našim spremaćicama koje su nas strpljivo čekale zbog probijenih termina. Također\, hvala našim predavačima Stipi\, Radeljiću\, Nenadu\, Piliškiću\, dr Džambasu\, Slobodanu\, Kristini\, Terezi\, Ivici\, Bratiću\, Vladi\, Vedranu i svima ostalima koji su na bilo koji način doprinijeli realizaciji projekta. Hvala i našim polaznicima na strpljenju\, a sad slijedi još ljepši\, zanimljiviji dio – planinarske ture i terenska predavanja. Idemo dalje! 🙂 \nPodijelite vijest:FacebookWhatsAppIspis
URL:https://pdkuk.ba/dogadaj/opca-planinarska-skola-deseto-predavanje/
CATEGORIES:Planinarska škola
ATTACH;FMTTYPE=image/jpeg:https://pdkuk.ba/wp-content/uploads/2019/11/61759571_2264948246906469_7282664048812883968_n.jpg
END:VEVENT
END:VCALENDAR