BEGIN:VCALENDAR
VERSION:2.0
PRODID:-//Planinarsko društvo Kuk - Novi Travnik - ECPv5.0.2.1//NONSGML v1.0//EN
CALSCALE:GREGORIAN
METHOD:PUBLISH
X-WR-CALNAME:Planinarsko društvo Kuk - Novi Travnik
X-ORIGINAL-URL:https://pdkuk.ba
X-WR-CALDESC:Events for Planinarsko društvo Kuk - Novi Travnik
BEGIN:VTIMEZONE
TZID:Europe/Zagreb
BEGIN:DAYLIGHT
TZOFFSETFROM:+0100
TZOFFSETTO:+0200
TZNAME:CEST
DTSTART:20200329T010000
END:DAYLIGHT
BEGIN:STANDARD
TZOFFSETFROM:+0200
TZOFFSETTO:+0100
TZNAME:CET
DTSTART:20201025T010000
END:STANDARD
END:VTIMEZONE
BEGIN:VEVENT
DTSTART;TZID=Europe/Zagreb:20200317T193000
DTEND;TZID=Europe/Zagreb:20200317T210000
DTSTAMP:20260422T220449
CREATED:20200301T075306Z
LAST-MODIFIED:20200301T075307Z
UID:1215-1584473400-1584478800@pdkuk.ba
SUMMARY:Opća planinarska škola 2020.
DESCRIPTION:Dragi prijatelji\, \nobavještavamo vas da i ove godine organiziramo Opću planinarsku školu koja će polaznicima omogućiti stjecanje novih znanja i vještina potrebnih za uspješno i sigurno planinarenje. \n \nOpća planinarska škola osnovni je oblik obrazovanja planinara\, a polaznici stječu znanja o kretanju i boravku u planini\, o opasnostima u planini\, upoznavanju s tehničkom opremom\, o prvoj pomoći i sve ono što mislite da znate\, ali ste zaboravili. \nZavršena Opća planinarska škola uvjet je za upis u škole i tečajeve iz planinarskih specijalnosti (alpinističke\, športsko-penjačke\, speleološke\, vodičke) i namijenjena je svima koji žele početi planinariti\, a nemaju previše znanja i iskustva. \nTakođer\, škola je dobra osnova i planinarima s iskustvom koji žele proširiti svoje znanje i vještine. \nPredavači u školi biti će iskusni planinari i gorski spašavatelji\, te stručnjaci iz područja speleologije\, alpinizma\, meteorologije i orijentacije. \nPlan i program škole propisan je Pravilnikom o općoj planinarskoj školi PS HB. \nTermin škole: ožujak-travanj  2020. \nTrajanje: cca 2 mjeseca \nCijena školarine:  30 KM za odrasle\, besplatno za malodobne članove Društva. \nSvaki polaznik dobiva skriptu iz osnova planinarstva\, a u cijenu nisu uključeni troškovi prijevoza na izlete. \nUvjeti za upis: \n\nnajmanje 15 godina starosti (za malodobne polaznike potrebna je pisana suglasnost roditelja)\,\nčlanstvo u PD «KUK» Novi Travnik ili u drugom društvu PS HB (više o načinu učlanjenjenja na prvom predavanju)\,\ndobro psihičko i fizičko zdravlje.\n\nPlaninarska škola je podijeljena u dvije cjeline:\n– teorijski dio:\npredavanja koja se održavaju u prostorijama\,\n– praktični dio:\nizleti i vježbe koje se izvode tijekom vikenda na planinama u okolini (Kalin\, Gorčevica\, Vlašić\, Vranica i sl.). \n \nPo završetku škole polaznici pristupaju ispitu. Uvjet za pristup ispitu je sudjelovanje na barem 70 % predavanja i na barem 4 dana izleta.\nNakon uspješno položenog ispita polaznik dobiva diplomu Planinarskog saveza Herceg Bosne. \nZa dodatna pitanja pišite nam na pd.kuk.ntravnik@gmail.com ili se javite na broj: 063/472–868\, Darijo Čonda. \nTakođer\, možete se prijaviti i putem google forme koju možete vrlo lako popuniti. \nMolimo sve zainteresirane da se prijave što prije radi lakše organizacije. \nMinimalni broj polaznika za pokretanje nastave je 10\, a broj mjesta je ograničen. \nPodijelite vijest:FacebookWhatsAppIspis
URL:https://pdkuk.ba/dogadaj/opca-planinarska-skola-2020/
LOCATION:Novi Travnik\, Ljudevita Gaja\, Novi Travnik\, 72290
CATEGORIES:Planinarska škola
ATTACH;FMTTYPE=image/jpeg:https://pdkuk.ba/wp-content/uploads/2020/02/0za.jpg
ORGANIZER;CN="Planinarsko%20dru%C5%A1tvo%20KUK%20Novi%20Travnik":MAILTO:pd.kuk.ntravnik@gmail.com
END:VEVENT
END:VCALENDAR