BEGIN:VCALENDAR
VERSION:2.0
PRODID:-//Planinarsko društvo Kuk - Novi Travnik - ECPv5.0.2.1//NONSGML v1.0//EN
CALSCALE:GREGORIAN
METHOD:PUBLISH
X-WR-CALNAME:Planinarsko društvo Kuk - Novi Travnik
X-ORIGINAL-URL:https://pdkuk.ba
X-WR-CALDESC:Events for Planinarsko društvo Kuk - Novi Travnik
BEGIN:VTIMEZONE
TZID:Europe/Zagreb
BEGIN:DAYLIGHT
TZOFFSETFROM:+0100
TZOFFSETTO:+0200
TZNAME:CEST
DTSTART:20260329T010000
END:DAYLIGHT
BEGIN:STANDARD
TZOFFSETFROM:+0200
TZOFFSETTO:+0100
TZNAME:CET
DTSTART:20261025T010000
END:STANDARD
END:VTIMEZONE
BEGIN:VEVENT
DTSTART;TZID=Europe/Zagreb:20260613T080000
DTEND;TZID=Europe/Zagreb:20260614T170000
DTSTAMP:20260422T153759
CREATED:20200227T134435Z
LAST-MODIFIED:20260313T072002Z
UID:780-1781337600-1781456400@pdkuk.ba
SUMMARY:Obilježavanje Dana grada Novi Travnik
DESCRIPTION:Obilježavanje Dana grada Novi Travnik na Kuku i Velikoj Ravni kroz tradicionalnu dvodnevnu manifestaciju Pješačenjem do zdravlja. \nkoji će se održati 13. i 14. lipnja/juna 2026. godine. \nProgram: \n13.06.2026. – planinarski pohod od Sebešića do Novog Travnika\n– za najodvažnije sudionike (zahtjevna tura u trajanju od cca 9 sati i dužine cca 30 km)\,\n– polazak autobusom sa autobusnog kolodvora u Novom Travniku u 07\,00 sati\,\n– polazak iz Sebešića ispred lovačkog doma u 08\,00 sati put Skopinih Lokava i Krstaca\,\n– planirani dolazak na Veliku Ravan je u 16\,00 sati\,\n– zajednički ručak\, slobodne aktivnosti… \n14.06.2026. – planinarska tura od Novog Travnika do Kuka\n– hodnja ispred sportske dvorane u 8\,30 sati\, put Rankovića\, Krekove kolibe do Kuka\,\n– sveta misa na brdu Kuk u 11\,00 sati\,\n– natjecanje u spravljanju planinarskog kotlića\, druženje uz pjesmu\,\n– slobodne aktivnosti… \n \n\nVAŽNA NAPOMENA\nPrijavom za sudjelovanje na pohodu/usponu\, svaki pojedinac potvrđuje da ispunjava zdravstvene i psihofizičke uvjete za sudjelovanje\, da prihvaća ovaj plan i program\, da usponu pristupa na vlastitu odgovornost\, te da će se sukladno planinarskoj etici pridržavati odluka i uputa organizatora i vodiča.\nOdjeću i obuću prilagoditi meteorološkim uvjetima.\nOrganizator zadržava pravo izmjene plana i programa ili odgađanja istog u slučaju nepredviđenih okolnosti na terenu (loši meteorološki uvjeti\, opasnost od lavina\, neprohodnost terena i sl.).\nOrganizator i vodiči zadržavaju pravo da prije ili tijekom uspona i pohoda mogu donijeti odluku da ne dopuste dalje učešće za učesnike koji nisu adekvatno opremljeni\, koji su eventualno ozlijeđeni\, iscrpljeni ili bilo šta drugo što bi dovelo u opasnost ili narušavanje sigurnosti pojedinca ili skupine.\nUčesnici su dužni pridržavati se propisanih epidemioloških mjera.\n\nIZJAVA O ODRICANJU ODGOVORNOSTI ORGANIZATORA\n\n\nSvaki učesnik pohoda/uspona svojom prijavom i sudjelovanjem prihvaća niže navedene uvjete:\n1. Učesnik svojom prijavom i sudjelovanjem potvrđuje da na pohodu/usponu nastupa isključivo na vlastitu odgovornost\, svjestan da sudjelovanje na ovom događaju predstavlja potencijalnu opasnost koja uključuje rizik od raznih vrsta tjelesnih ozljeda i moguću smrt.\n2. Učesnik prihvaća da Organizator nije odgovoran za bilo koji oblik štete prema njemu nastao sudjelovanjem na pohodu/usponu\, posredno\, neposredno\, izdvojeno ili povezano\, izazvan vlastitom nepažnjom i krivnjom\, ili nepažnjom i krivnjom drugih natjecatelja ili trećih osoba\, prije\, za vrijeme ili nakon spomenutog natjecanja.\n3. Učesnik je odgovoran za bilo koji oblik štete prema trećim osobama koju je prouzročio ili kojoj je doprinio vlastitom nepažnjom ili krivnjom.\n4. Učesnik je dužan za vrijeme trajanja pohoda/uspona\, te neposredno prije i poslije istog\, poštivati službeno objavljena pravila\, upute o sigurnom kretanju\, i uvjete nastupa izdanih od strane organizatora\, te upute vodiča i osoba angažiranih u organizaciji pohoda/uspona.\n5. Prijavom na pohod/uspon učesnik je suglasan da organizator smije koristiti fotografije nastale za vrijeme\, neposredno prije i poslije pohoda/uspona za svoje interne potrebe i potrebe promocije događaja. Učesnik je suglasan da organizator smije koristiti njegove osobne podatke za internu komunikaciju i u promocijske svrhe organizatora.\n6. Učesnik se odriče prava sudskim putem potraživati od organizatora naknadu bilo kojeg oblika štete nastale sudjelovanjem na pohodu/usponu.\n\n\n\nPodijelite vijest:FacebookWhatsAppIspis
URL:https://pdkuk.ba/dogadaj/obiljezavanje-dana-grada-novi-travnik/
LOCATION:Bučićka ravan\, Bučićka ravan\, Novi Travnik\, Bosnia and Herzegovina
ORGANIZER;CN="Planinarsko%20dru%C5%A1tvo%20KUK%20Novi%20Travnik":MAILTO:pd.kuk.ntravnik@gmail.com
GEO:44.1549475;17.6959544
X-APPLE-STRUCTURED-LOCATION;VALUE=URI;X-ADDRESS=Bučićka ravan Bučićka ravan Novi Travnik Bosnia and Herzegovina;X-APPLE-RADIUS=500;X-TITLE=Bučićka ravan:geo:17.6959544,44.1549475
END:VEVENT
END:VCALENDAR