BEGIN:VCALENDAR
VERSION:2.0
PRODID:-//Planinarsko društvo Kuk - Novi Travnik - ECPv5.0.2.1//NONSGML v1.0//EN
CALSCALE:GREGORIAN
METHOD:PUBLISH
X-WR-CALNAME:Planinarsko društvo Kuk - Novi Travnik
X-ORIGINAL-URL:https://pdkuk.ba
X-WR-CALDESC:Events for Planinarsko društvo Kuk - Novi Travnik
BEGIN:VTIMEZONE
TZID:Europe/Zagreb
BEGIN:DAYLIGHT
TZOFFSETFROM:+0100
TZOFFSETTO:+0200
TZNAME:CEST
DTSTART:20220327T010000
END:DAYLIGHT
BEGIN:STANDARD
TZOFFSETFROM:+0200
TZOFFSETTO:+0100
TZNAME:CET
DTSTART:20221030T010000
END:STANDARD
END:VTIMEZONE
BEGIN:VEVENT
DTSTART;VALUE=DATE:20220827
DTEND;VALUE=DATE:20220829
DTSTAMP:20260422T172204
CREATED:20220730T110130Z
LAST-MODIFIED:20220816T061304Z
UID:4155-1661558400-1661731199@pdkuk.ba
SUMMARY:Ljetni kamp za djecu 2022.
DESCRIPTION:Planinarsko društvo KUK Novi Travnik organizira \nLjetni kamp za djecu \nkoji će se održati subotu i nedjelju 27. i 28. kolovoza na izletištu Bučićka Ravan. \nKamp je namijenjen djeci uzrasta od 7 do 12 godina\, a cilj da se djeca upoznaju s planinarenjem kao jednim od najzdravijih i najuzbudljivijih vidova rekreacije\, usvoje osnovna znanja i vještine boravka u prirodi\, te da se barem nakratko odmaknu od „ekrana“ i da planirano vrijeme provedu u prirodnom okruženju s prijateljima. \n \nPodijelite vijest:FacebookWhatsAppIspis
URL:https://pdkuk.ba/dogadaj/ljetni-kamp-za-djecu-2022/
LOCATION:Bučićka ravan\, Bučićka ravan\, Novi Travnik\, Bosnia and Herzegovina
ORGANIZER;CN="Planinarsko%20dru%C5%A1tvo%20KUK%20Novi%20Travnik":MAILTO:pd.kuk.ntravnik@gmail.com
GEO:44.1549475;17.6959544
X-APPLE-STRUCTURED-LOCATION;VALUE=URI;X-ADDRESS=Bučićka ravan Bučićka ravan Novi Travnik Bosnia and Herzegovina;X-APPLE-RADIUS=500;X-TITLE=Bučićka ravan:geo:17.6959544,44.1549475
END:VEVENT
END:VCALENDAR