BEGIN:VCALENDAR
VERSION:2.0
PRODID:-//Planinarsko društvo Kuk - Novi Travnik - ECPv5.0.2.1//NONSGML v1.0//EN
CALSCALE:GREGORIAN
METHOD:PUBLISH
X-WR-CALNAME:Planinarsko društvo Kuk - Novi Travnik
X-ORIGINAL-URL:https://pdkuk.ba
X-WR-CALDESC:Events for Planinarsko društvo Kuk - Novi Travnik
BEGIN:VTIMEZONE
TZID:Europe/Zagreb
BEGIN:DAYLIGHT
TZOFFSETFROM:+0100
TZOFFSETTO:+0200
TZNAME:CEST
DTSTART:20190331T010000
END:DAYLIGHT
BEGIN:STANDARD
TZOFFSETFROM:+0200
TZOFFSETTO:+0100
TZNAME:CET
DTSTART:20191027T010000
END:STANDARD
END:VTIMEZONE
BEGIN:VEVENT
DTSTART;TZID=Europe/Zagreb:20190611T193000
DTEND;TZID=Europe/Zagreb:20190611T203000
DTSTAMP:20260423T015307
CREATED:20200229T093004Z
LAST-MODIFIED:20200229T093019Z
UID:1114-1560281400-1560285000@pdkuk.ba
SUMMARY:Javna tribina
DESCRIPTION:Javna tribina: TRANSPLANTACIJA – šansa za novi život Planinarstvo – put do zdravlja\, održana je u Osnovnoj školi u utorak 11.06.2019. godine\, a na inicijativu polaznice Opće planinarske škole Marijane Furundžija-Lovrinović. Još jedno predavanje koje je upotpunilo cjelokupni mozaik. \nPodijelite vijest:FacebookWhatsAppIspis
URL:https://pdkuk.ba/dogadaj/javna-tribina-na-temu-transplantcija/
CATEGORIES:Planinarska škola
ATTACH;FMTTYPE=image/jpeg:https://pdkuk.ba/wp-content/uploads/2020/02/87703415_2394791727289992_3100802839652335616_n.jpg
ORGANIZER;CN="Planinarsko%20dru%C5%A1tvo%20KUK%20Novi%20Travnik":MAILTO:pd.kuk.ntravnik@gmail.com
END:VEVENT
END:VCALENDAR