BEGIN:VCALENDAR
VERSION:2.0
PRODID:-//Planinarsko društvo Kuk - Novi Travnik - ECPv5.0.2.1//NONSGML v1.0//EN
CALSCALE:GREGORIAN
METHOD:PUBLISH
X-WR-CALNAME:Planinarsko društvo Kuk - Novi Travnik
X-ORIGINAL-URL:https://pdkuk.ba
X-WR-CALDESC:Events for Planinarsko društvo Kuk - Novi Travnik
BEGIN:VTIMEZONE
TZID:Europe/Zagreb
BEGIN:DAYLIGHT
TZOFFSETFROM:+0100
TZOFFSETTO:+0200
TZNAME:CEST
DTSTART:20200329T010000
END:DAYLIGHT
BEGIN:STANDARD
TZOFFSETFROM:+0200
TZOFFSETTO:+0100
TZNAME:CET
DTSTART:20201025T010000
END:STANDARD
END:VTIMEZONE
BEGIN:VEVENT
DTSTART;TZID=Europe/Zagreb:20200821T080000
DTEND;TZID=Europe/Zagreb:20200823T170000
DTSTAMP:20260422T190041
CREATED:20200303T112814Z
LAST-MODIFIED:20200304T080801Z
UID:1317-1597996800-1598202000@pdkuk.ba
SUMMARY:Dani planinara Herceg Bosne
DESCRIPTION:Dani planinara Herceg Bosne u Bogodolu ispod Čabulje\, domaćn HPD Prenj / 24. put \nPodijelite vijest:FacebookWhatsAppIspis
URL:https://pdkuk.ba/dogadaj/dani-planinara-hb/
LOCATION:Bogodol\, Bogodol\, Mostar\, Bosnia and Herzegovina
ATTACH;FMTTYPE=image/jpeg:https://pdkuk.ba/wp-content/uploads/2020/03/Logo-PSHB-3.jpg
GEO:43.448995;17.654385
X-APPLE-STRUCTURED-LOCATION;VALUE=URI;X-ADDRESS=Bogodol Bogodol Mostar Bosnia and Herzegovina;X-APPLE-RADIUS=500;X-TITLE=Bogodol:geo:17.654385,43.448995
END:VEVENT
END:VCALENDAR