BEGIN:VCALENDAR
VERSION:2.0
PRODID:-//Planinarsko društvo Kuk - Novi Travnik - ECPv5.0.2.1//NONSGML v1.0//EN
CALSCALE:GREGORIAN
METHOD:PUBLISH
X-WR-CALNAME:Planinarsko društvo Kuk - Novi Travnik
X-ORIGINAL-URL:https://pdkuk.ba
X-WR-CALDESC:Events for Planinarsko društvo Kuk - Novi Travnik
BEGIN:VTIMEZONE
TZID:Europe/Zagreb
BEGIN:DAYLIGHT
TZOFFSETFROM:+0100
TZOFFSETTO:+0200
TZNAME:CEST
DTSTART:20220327T010000
END:DAYLIGHT
BEGIN:STANDARD
TZOFFSETFROM:+0200
TZOFFSETTO:+0100
TZNAME:CET
DTSTART:20221030T010000
END:STANDARD
END:VTIMEZONE
BEGIN:VEVENT
DTSTART;TZID=Europe/Zagreb:20220819T000000
DTEND;TZID=Europe/Zagreb:20220821T000000
DTSTAMP:20260422T185124
CREATED:20220811T071917Z
LAST-MODIFIED:20220811T072016Z
UID:4161-1660867200-1661040000@pdkuk.ba
SUMMARY:Dani planinara Herceg-Bosne 2022.
DESCRIPTION:Dani planinara Herceg Bosne ove godine su u Brčkom. \nDomaćin će biti Planinarsko društvo “GRANAŠ“ – Gornji Zovik – Distrikt Brčko\, a manifestacija će se održati u dane od 19. do 21 kolovoza 2022. godine na lokalitetu kod planinarskog doma „Sv. Bernard“ u Gornjem Zoviku./ 25. put \nViše o tome na: https://ps-hb.info/pd-granas-domacin-xxv-dana-planinara-ps-hb-2022-godine/ \nPodijelite vijest:FacebookWhatsAppIspis
URL:https://pdkuk.ba/dogadaj/dani-planinara-hb-2/
ATTACH;FMTTYPE=image/jpeg:https://pdkuk.ba/wp-content/uploads/2020/03/Logo-PSHB-3.jpg
END:VEVENT
END:VCALENDAR