BEGIN:VCALENDAR
VERSION:2.0
PRODID:-//Planinarsko društvo Kuk - Novi Travnik - ECPv5.0.2.1//NONSGML v1.0//EN
CALSCALE:GREGORIAN
METHOD:PUBLISH
X-WR-CALNAME:Planinarsko društvo Kuk - Novi Travnik
X-ORIGINAL-URL:https://pdkuk.ba
X-WR-CALDESC:Events for Planinarsko društvo Kuk - Novi Travnik
BEGIN:VTIMEZONE
TZID:Europe/Zagreb
BEGIN:DAYLIGHT
TZOFFSETFROM:+0100
TZOFFSETTO:+0200
TZNAME:CEST
DTSTART:20190331T010000
END:DAYLIGHT
BEGIN:STANDARD
TZOFFSETFROM:+0200
TZOFFSETTO:+0100
TZNAME:CET
DTSTART:20191027T010000
END:STANDARD
END:VTIMEZONE
BEGIN:VEVENT
DTSTART;TZID=Europe/Zagreb:20190418T190000
DTEND;TZID=Europe/Zagreb:20190418T203000
DTSTAMP:20260425T172314
CREATED:20200229T085036Z
LAST-MODIFIED:20200229T085036Z
UID:1108-1555614000-1555619400@pdkuk.ba
SUMMARY:Četvrto predavanje planinarske škole
DESCRIPTION:Četvrto predavanje održano je 18.04.2019. na temu korištenja užadi i čvorova\, Iz vlastitog iskustva Dragan je navodio razne situacije u kojima različite vrsta užadi i čvorovi mogu nas izvući iz neugodnosti\, pa čak spasiti i život. Kao i prošli put\, stol je bio pun opreme\, svaki komad je pomno objašnjen i pregledan od strane zainteresiranih polaznika. U nastavku je Vedran započeo svoje zanimljivo izlaganje o opasnostima u planini. Zbog nedostatka vremena koje nam u našoj planinarskoj školi kronično nedostaje\, dogovorili smo nastavak nakon uskršnjih blagdana. \nPodijelite vijest:FacebookWhatsAppIspis
URL:https://pdkuk.ba/dogadaj/cetvrto-predavanje-planinarske-skole/
CATEGORIES:Planinarska škola
ATTACH;FMTTYPE=image/jpeg:https://pdkuk.ba/wp-content/uploads/2020/02/87983972_185568722858517_4923666043307556864_n.jpg
ORGANIZER;CN="Planinarsko%20dru%C5%A1tvo%20KUK%20Novi%20Travnik":MAILTO:pd.kuk.ntravnik@gmail.com
END:VEVENT
END:VCALENDAR